BEGIN:VCALENDAR
VERSION:2.0
PRODID:-//Tukios.com/
BEGIN:VEVENT
UID:e014d447-2d67-4665-96a4-0cb81159ccef@www.englishbrosfuneralhome.com
DTSTAMP:20260422T010501Z
DTSTART:20260425T200000Z
DTEND:20260425T230000Z
SUMMARY:Viewing
DESCRIPTION:
URL:https://www.englishbrosfuneralhome.com/obituaries/armando-thomas
LOCATION: 2203 Avenue Z  Brooklyn NY 11235
GEO:40.5889805;-73.9472921
END:VEVENT
END:VCALENDAR