BEGIN:VCALENDAR
VERSION:2.0
PRODID:-//Tukios.com/
BEGIN:VEVENT
UID:18d66ce2-059f-481a-bcf8-0dc3a3581e36@www.englishbrosfuneralhome.com
DTSTAMP:20260421T005549Z
DTSTART:20260425T160000Z
DTEND:20260425T170000Z
SUMMARY:Memorial Gathering
DESCRIPTION:
URL:https://www.englishbrosfuneralhome.com/obituaries/bettye-felder
LOCATION: 2203 Avenue Z  Brooklyn NY 11235
GEO:40.5889805;-73.9472921
END:VEVENT
END:VCALENDAR