BEGIN:VCALENDAR
VERSION:2.0
PRODID:-//Tukios.com/
BEGIN:VEVENT
UID:eb76f18d-d67d-493d-84a1-fb8eca372115@www.englishbrosfuneralhome.com
DTSTAMP:20260421T005451Z
DTSTART:20260425T170000Z
DTEND:20260425T180000Z
SUMMARY:Memorial Service
DESCRIPTION:
URL:https://www.englishbrosfuneralhome.com/obituaries/bettye-felder
LOCATION: 2203 Avenue Z  Brooklyn NY 11235
GEO:40.5889805;-73.9472921
END:VEVENT
END:VCALENDAR