BEGIN:VCALENDAR
VERSION:2.0
PRODID:-//Tukios.com/
BEGIN:VEVENT
UID:e5d2245e-f984-43e3-8ea1-5be812623ac3@www.englishbrosfuneralhome.com
DTSTAMP:20260420T215811Z
DTSTART:20260421T180000Z
DTEND:20260421T203000Z
SUMMARY:Viewing
DESCRIPTION:
URL:https://www.englishbrosfuneralhome.com/obituaries/valentin-stanishevskiy
LOCATION: 2203 Avenue Z  Brooklyn NY 11235
GEO:40.5889805;-73.9472921
END:VEVENT
END:VCALENDAR