BEGIN:VCALENDAR
VERSION:2.0
PRODID:-//Tukios.com/
BEGIN:VEVENT
UID:cf966708-3d48-4762-a6eb-88959c25745f@www.englishbrosfuneralhome.com
DTSTAMP:20260422T200703Z
DTSTART:20260423T140000Z
DTEND:20260423T150000Z
SUMMARY:Viewing
DESCRIPTION:
URL:https://www.englishbrosfuneralhome.com/obituaries/valeriy-afanasyev
LOCATION: 2203 Avenue Z  Brooklyn NY 11235
GEO:40.5889805;-73.9472921
END:VEVENT
END:VCALENDAR