BEGIN:VCALENDAR
VERSION:2.0
PRODID:-//Tukios.com/
BEGIN:VEVENT
UID:84c128c5-aee8-4bbe-b2ab-1d1d3b657bcc@www.englishbrosfuneralhome.com
DTSTAMP:20260422T200352Z
DTSTART:20260423T150000Z
DTEND:20260423T160000Z
SUMMARY:Prayer Service
DESCRIPTION:FR Oleksandr Belya, Officiating
URL:https://www.englishbrosfuneralhome.com/obituaries/valeriy-afanasyev
LOCATION: 2203 Avenue Z  Brooklyn NY 11235
GEO:40.5889805;-73.9472921
END:VEVENT
END:VCALENDAR