BEGIN:VCALENDAR
VERSION:2.0
PRODID:-//Tukios.com/
BEGIN:VEVENT
UID:c93b1f93-ef2a-4fcd-ac3e-7a3d63a52e5c@www.englishbrosfuneralhome.com
DTSTAMP:20260422T200938Z
DTSTART:20260423T170000Z
DTEND:20260423T180000Z
SUMMARY:Burial
DESCRIPTION:
URL:https://www.englishbrosfuneralhome.com/obituaries/valeriy-afanasyev
LOCATION:Union Fields Cemetery 82-11 Cypress Avenue  Ridgewood NY 11385
GEO:40.6932205;-73.8911548
END:VEVENT
END:VCALENDAR